BEGIN:VCALENDAR
VERSION:2.0
PRODID:spatie/icalendar-generator
DESCRIPTION:Veranstaltungen von Seniorenfussball Treffling
X-WR-CALDESC:Veranstaltungen von Seniorenfussball Treffling
REFRESH-INTERVAL;VALUE=DURATION:PT1440M
X-PUBLISHED-TTL:PT1440M
BEGIN:VTIMEZONE
TZID:Europe/Vienna
BEGIN:STANDARD
DTSTART:20171029T030000Z
TZOFFSETFROM:+0200
TZOFFSETTO:+0100
END:STANDARD
BEGIN:DAYLIGHT
DTSTART:20180325T020000Z
TZOFFSETFROM:+0100
TZOFFSETTO:+0200
END:DAYLIGHT
BEGIN:STANDARD
DTSTART:20181028T030000Z
TZOFFSETFROM:+0200
TZOFFSETTO:+0100
END:STANDARD
END:VTIMEZONE
BEGIN:VTIMEZONE
TZID:UTC
BEGIN:STANDARD
DTSTART:20250730T032210Z
TZOFFSETFROM:+0000
TZOFFSETTO:+0000
END:STANDARD
END:VTIMEZONE
BEGIN:VEVENT
UID:57-36
DTSTAMP:20260426T032210Z
SUMMARY:Peter Abschiedsspiel
LOCATION:ASKÖ Treffling\, Exit 19 Stadion Spielfeld 18  Mittertreffling OO
 E 4209
ORGANIZER;CN=Didi Reicht:MAILTO:didi@reicht.net
DTSTART;TZID=Europe/Vienna:20180528T193000
DTEND;TZID=Europe/Vienna:20180528T230000
X-ALT-DESC;FMTTYPE=TEXT/HTML:Das Abschiedsspiel von Peter Karas inkl. Kist
 ensau Essen im Anschluss an das Spiel - Anmeldung unbedingt erforderlich.
CATEGORIES:Event
URL;VALUE=URI:https://www.treffling.com/kalender/peter-abschiedsspiel/
METHOD:PUBLISH
END:VEVENT
END:VCALENDAR