BEGIN:VCALENDAR
VERSION:2.0
PRODID:spatie/icalendar-generator
DESCRIPTION:Veranstaltungen von Seniorenfussball Treffling
X-WR-CALDESC:Veranstaltungen von Seniorenfussball Treffling
REFRESH-INTERVAL;VALUE=DURATION:PT1440M
X-PUBLISHED-TTL:PT1440M
BEGIN:VTIMEZONE
TZID:Europe/Vienna
BEGIN:DAYLIGHT
DTSTART:20180325T020000Z
TZOFFSETFROM:+0100
TZOFFSETTO:+0200
END:DAYLIGHT
BEGIN:STANDARD
DTSTART:20181028T030000Z
TZOFFSETFROM:+0200
TZOFFSETTO:+0100
END:STANDARD
BEGIN:DAYLIGHT
DTSTART:20190331T020000Z
TZOFFSETFROM:+0100
TZOFFSETTO:+0200
END:DAYLIGHT
END:VTIMEZONE
BEGIN:VTIMEZONE
TZID:UTC
BEGIN:STANDARD
DTSTART:20250729T220741Z
TZOFFSETFROM:+0000
TZOFFSETTO:+0000
END:STANDARD
END:VTIMEZONE
BEGIN:VEVENT
UID:53-33
DTSTAMP:20260425T220741Z
SUMMARY:Ausflug nach Hard/Vlbg
LOCATION:
ORGANIZER;CN=Didi Reicht:MAILTO:didi@reicht.net
DTSTART;TZID=Europe/Vienna;VALUE=DATE:20180928
DTEND;TZID=Europe/Vienna;VALUE=DATE:20181001
X-ALT-DESC;FMTTYPE=TEXT/HTML:&amp;nbsp\; Wir haben einen Termin für ein Rücks
 piel gegen den FC Hard gefunden: Fr\, 28. – So\, 30. September 2018. Wi
 r freuen uns über viele Zusagen\, das Program könnt ihr hier lesen. http
 ://www.treffling.com/2018/02/08/rueckmatch-fc-hard-askoe-treffling-2/
CATEGORIES:Ausflug
URL;VALUE=URI:https://www.treffling.com/kalender/ausflug-nach-hard-vlbg/
METHOD:PUBLISH
END:VEVENT
END:VCALENDAR