BEGIN:VCALENDAR
VERSION:2.0
PRODID:spatie/icalendar-generator
DESCRIPTION:Veranstaltungen von Seniorenfussball Treffling
X-WR-CALDESC:Veranstaltungen von Seniorenfussball Treffling
REFRESH-INTERVAL;VALUE=DURATION:PT1440M
X-PUBLISHED-TTL:PT1440M
BEGIN:VTIMEZONE
TZID:Europe/Vienna
BEGIN:STANDARD
DTSTART:20181028T030000Z
TZOFFSETFROM:+0200
TZOFFSETTO:+0100
END:STANDARD
BEGIN:DAYLIGHT
DTSTART:20190331T020000Z
TZOFFSETFROM:+0100
TZOFFSETTO:+0200
END:DAYLIGHT
END:VTIMEZONE
BEGIN:VTIMEZONE
TZID:UTC
BEGIN:STANDARD
DTSTART:20250729T202615Z
TZOFFSETFROM:+0000
TZOFFSETTO:+0000
END:STANDARD
END:VTIMEZONE
BEGIN:VEVENT
UID:51-32
DTSTAMP:20260425T202615Z
SUMMARY:Skitag 2019
LOCATION:Flachau Spacejet Liftstrasse  Reitdorf  5542
ORGANIZER;CN=Didi Reicht:MAILTO:didi@reicht.net
DTSTART;TZID=Europe/Vienna:20190112T060000
DTEND;TZID=Europe/Vienna:20190112T234500
X-ALT-DESC;FMTTYPE=TEXT/HTML:Der traditionelle Herrenskitag der ASKÖ Treff
 ling Senioren findet 2019 am Samstag\, den 12. Jan statt. Wir starten wie 
 immer am Samstag um 06:00 Uhr vom SPAR Parkplatz in Mittertreffling. Es ge
 ht wohl wieder in die Flachau - außer wir finden was Besseres - was aber 
 schwer werden wird. Rückfahrt 20:30 Uhr\, Ankunft Treffling vor 24:00&amp;hel
 lip\;
CATEGORIES:Ausflug
URL;VALUE=URI:https://www.treffling.com/kalender/skitag-2019/
METHOD:PUBLISH
END:VEVENT
END:VCALENDAR