BEGIN:VCALENDAR
VERSION:2.0
PRODID:spatie/icalendar-generator
DESCRIPTION:Veranstaltungen von Seniorenfussball Treffling
X-WR-CALDESC:Veranstaltungen von Seniorenfussball Treffling
REFRESH-INTERVAL;VALUE=DURATION:PT1440M
X-PUBLISHED-TTL:PT1440M
BEGIN:VTIMEZONE
TZID:Europe/Vienna
BEGIN:DAYLIGHT
DTSTART:20170326T020000Z
TZOFFSETFROM:+0100
TZOFFSETTO:+0200
END:DAYLIGHT
BEGIN:STANDARD
DTSTART:20171029T030000Z
TZOFFSETFROM:+0200
TZOFFSETTO:+0100
END:STANDARD
BEGIN:DAYLIGHT
DTSTART:20180325T020000Z
TZOFFSETFROM:+0100
TZOFFSETTO:+0200
END:DAYLIGHT
END:VTIMEZONE
BEGIN:VTIMEZONE
TZID:UTC
BEGIN:STANDARD
DTSTART:20250729T164406Z
TZOFFSETFROM:+0000
TZOFFSETTO:+0000
END:STANDARD
END:VTIMEZONE
BEGIN:VEVENT
UID:47-29
DTSTAMP:20260425T164406Z
SUMMARY:Training von 23. Okt --&amp;gt\; 25. Okt verschoben!
LOCATION:ASKÖ Treffling\, Exit 19 Stadion Spielfeld 18  Mittertreffling OO
 E 4209
ORGANIZER;CN=Didi Reicht:MAILTO:didi@reicht.net
DTSTART;TZID=Europe/Vienna:20171025T190000
DTEND;TZID=Europe/Vienna:20171025T210000
X-ALT-DESC;FMTTYPE=TEXT/HTML:Am Montag 23.10. muss das Training wegen einem
  Nachwuchsspiel auf den Mi\, 25. Oktober verschoben werden. Dafür wurde d
 er Sa\, 21. Oktober für uns frei gemacht!
CATEGORIES:Ausflug
URL;VALUE=URI:https://www.treffling.com/kalender/training-von-23-okt-25-okt
 -verschoben/
METHOD:PUBLISH
END:VEVENT
END:VCALENDAR