BEGIN:VCALENDAR
VERSION:2.0
PRODID:spatie/icalendar-generator
DESCRIPTION:Veranstaltungen von Seniorenfussball Treffling
X-WR-CALDESC:Veranstaltungen von Seniorenfussball Treffling
REFRESH-INTERVAL;VALUE=DURATION:PT1440M
X-PUBLISHED-TTL:PT1440M
BEGIN:VTIMEZONE
TZID:Europe/Vienna
BEGIN:DAYLIGHT
DTSTART:20170326T020000Z
TZOFFSETFROM:+0100
TZOFFSETTO:+0200
END:DAYLIGHT
BEGIN:STANDARD
DTSTART:20171029T030000Z
TZOFFSETFROM:+0200
TZOFFSETTO:+0100
END:STANDARD
END:VTIMEZONE
BEGIN:VTIMEZONE
TZID:UTC
BEGIN:STANDARD
DTSTART:20250729T163855Z
TZOFFSETFROM:+0000
TZOFFSETTO:+0000
END:STANDARD
END:VTIMEZONE
BEGIN:VEVENT
UID:46-28
DTSTAMP:20260425T163855Z
SUMMARY:DSG Altenberg - ASKÖ Treffling ABGESAGT
LOCATION:Waldstadion Altenberg  Schmiedgasse 2  Altenberg bei Linz OOE 4203
ORGANIZER;CN=Didi Reicht:MAILTO:didi@reicht.net
DTSTART;TZID=Europe/Vienna:20170918T190000
DTEND;TZID=Europe/Vienna:20170918T210000
X-ALT-DESC;FMTTYPE=TEXT/HTML:Wegen der schlechten Witterung ist der Platz g
 esperrt - das Spiel muss leider abgesagt werden!
CATEGORIES:Spiel
URL;VALUE=URI:https://www.treffling.com/kalender/dsg-altenberg-askoe-treffl
 ing-abgesagt/
METHOD:PUBLISH
END:VEVENT
END:VCALENDAR