BEGIN:VCALENDAR
VERSION:2.0
PRODID:spatie/icalendar-generator
DESCRIPTION:Veranstaltungen von Seniorenfussball Treffling
X-WR-CALDESC:Veranstaltungen von Seniorenfussball Treffling
REFRESH-INTERVAL;VALUE=DURATION:PT1440M
X-PUBLISHED-TTL:PT1440M
BEGIN:VTIMEZONE
TZID:Europe/Vienna
BEGIN:DAYLIGHT
DTSTART:20170326T020000Z
TZOFFSETFROM:+0100
TZOFFSETTO:+0200
END:DAYLIGHT
BEGIN:STANDARD
DTSTART:20171029T030000Z
TZOFFSETFROM:+0200
TZOFFSETTO:+0100
END:STANDARD
END:VTIMEZONE
BEGIN:VTIMEZONE
TZID:UTC
BEGIN:STANDARD
DTSTART:20250729T163721Z
TZOFFSETFROM:+0000
TZOFFSETTO:+0000
END:STANDARD
END:VTIMEZONE
BEGIN:VEVENT
UID:42-22
DTSTAMP:20260425T163721Z
SUMMARY:Heckenschneiden
LOCATION:ASKÖ Treffling\, Exit 19 Stadion Spielfeld 18  Mittertreffling OO
 E 4209
ORGANIZER;CN=Didi Reicht:MAILTO:didi@reicht.net
DTSTART;TZID=Europe/Vienna:20170909T090000
DTEND;TZID=Europe/Vienna:20170916T130000
X-ALT-DESC;FMTTYPE=TEXT/HTML:Heckenschneiden und weitere Verschönerungsma
 ßnahmen rund um den Platz. Wie immer und ganz wichtig: Wir benötigen Ger
 ätschaften: Heckenscheren (je mehr\, desto besser) Rechen Besen Heugabel 
 Anhänger Kabelrollen Stehleitern Bitte der der Doodle-Umfrage einschreibe
 n. DANKE!
CATEGORIES:Event
URL;VALUE=URI:https://www.treffling.com/kalender/heckenschneiden/
METHOD:PUBLISH
END:VEVENT
END:VCALENDAR