BEGIN:VCALENDAR
VERSION:2.0
PRODID:spatie/icalendar-generator
DESCRIPTION:Veranstaltungen von Seniorenfussball Treffling
X-WR-CALDESC:Veranstaltungen von Seniorenfussball Treffling
REFRESH-INTERVAL;VALUE=DURATION:PT1440M
X-PUBLISHED-TTL:PT1440M
BEGIN:VTIMEZONE
TZID:Europe/Vienna
BEGIN:DAYLIGHT
DTSTART:20170326T020000Z
TZOFFSETFROM:+0100
TZOFFSETTO:+0200
END:DAYLIGHT
BEGIN:STANDARD
DTSTART:20171029T030000Z
TZOFFSETFROM:+0200
TZOFFSETTO:+0100
END:STANDARD
BEGIN:DAYLIGHT
DTSTART:20180325T020000Z
TZOFFSETFROM:+0100
TZOFFSETTO:+0200
END:DAYLIGHT
END:VTIMEZONE
BEGIN:VTIMEZONE
TZID:UTC
BEGIN:STANDARD
DTSTART:20250729T163941Z
TZOFFSETFROM:+0000
TZOFFSETTO:+0000
END:STANDARD
END:VTIMEZONE
BEGIN:VEVENT
UID:40-25
DTSTAMP:20260425T163941Z
SUMMARY:TSV Ottensheim - ASKÖ Treffling
LOCATION:TSV Ottensheim Sportplatzstraße 1  Ottensheim OOE 4100
ORGANIZER;CN=Didi Reicht:MAILTO:didi@reicht.net
DTSTART;TZID=Europe/Vienna:20171009T191500
DTEND;TZID=Europe/Vienna:20171009T210000
X-ALT-DESC;FMTTYPE=TEXT/HTML:Anmeldung bei Doodle
CATEGORIES:Spiel
URL;VALUE=URI:https://www.treffling.com/kalender/tsv-ottensheim-askoe-treff
 ling/
METHOD:PUBLISH
END:VEVENT
END:VCALENDAR