BEGIN:VCALENDAR
VERSION:2.0
PRODID:spatie/icalendar-generator
DESCRIPTION:Veranstaltungen von Seniorenfussball Treffling
X-WR-CALDESC:Veranstaltungen von Seniorenfussball Treffling
REFRESH-INTERVAL;VALUE=DURATION:PT1440M
X-PUBLISHED-TTL:PT1440M
BEGIN:VTIMEZONE
TZID:Europe/Vienna
BEGIN:STANDARD
DTSTART:20171029T030000Z
TZOFFSETFROM:+0200
TZOFFSETTO:+0100
END:STANDARD
BEGIN:DAYLIGHT
DTSTART:20180325T020000Z
TZOFFSETFROM:+0100
TZOFFSETTO:+0200
END:DAYLIGHT
END:VTIMEZONE
BEGIN:VTIMEZONE
TZID:UTC
BEGIN:STANDARD
DTSTART:20250729T201327Z
TZOFFSETFROM:+0000
TZOFFSETTO:+0000
END:STANDARD
END:VTIMEZONE
BEGIN:VEVENT
UID:34-20
DTSTAMP:20260425T201327Z
SUMMARY:Herrenskitag ASKÖ Treffling Senioren 2018
LOCATION:Ski Amade Wagrain - Talstation Flying Mozart Widmoosweg 6  Hofmark
  OOE 5602
ORGANIZER;CN=Didi Reicht:MAILTO:didi@reicht.net
DTSTART;TZID=Europe/Vienna:20180113T060000
DTEND;TZID=Europe/Vienna:20180113T234500
X-ALT-DESC;FMTTYPE=TEXT/HTML:Treffpunkt Spar Parkplatz plus 1-2 Pick Ups. D
 er traditionelle Herrenskitag der ASKÖ Treffling Senioren findet 2018 am 
 Samstag\, den 13. Jan statt. Wir hoffen dieses Mal auch am Samstag um 06:0
 0 Uhr vom SPAR Parkplatz in Mittertreffling zu starten. Heuer versuchen wi
 r es mit der Basis in Wagrain\, wo wir u.a. im Kuhstall den Abend&amp;hellip\;
CATEGORIES:Ausflug
URL;VALUE=URI:https://www.treffling.com/kalender/herrenskitag-askoe-treffli
 ng-senioren-2018/
METHOD:PUBLISH
END:VEVENT
END:VCALENDAR