BEGIN:VCALENDAR
VERSION:2.0
PRODID:spatie/icalendar-generator
DESCRIPTION:Veranstaltungen von Seniorenfussball Treffling
X-WR-CALDESC:Veranstaltungen von Seniorenfussball Treffling
REFRESH-INTERVAL;VALUE=DURATION:PT1440M
X-PUBLISHED-TTL:PT1440M
BEGIN:VTIMEZONE
TZID:Europe/Vienna
BEGIN:STANDARD
DTSTART:20161030T030000Z
TZOFFSETFROM:+0200
TZOFFSETTO:+0100
END:STANDARD
BEGIN:DAYLIGHT
DTSTART:20170326T020000Z
TZOFFSETFROM:+0100
TZOFFSETTO:+0200
END:DAYLIGHT
BEGIN:STANDARD
DTSTART:20171029T030000Z
TZOFFSETFROM:+0200
TZOFFSETTO:+0100
END:STANDARD
END:VTIMEZONE
BEGIN:VTIMEZONE
TZID:UTC
BEGIN:STANDARD
DTSTART:20250729T163526Z
TZOFFSETFROM:+0000
TZOFFSETTO:+0000
END:STANDARD
END:VTIMEZONE
BEGIN:VEVENT
UID:33-19
DTSTAMP:20260425T163526Z
SUMMARY:ASKÖ Treffling - DSG (verschoben)
LOCATION:ASKÖ Treffling\, Exit 19 Stadion Spielfeld 18  Mittertreffling OO
 E 4209
ORGANIZER;CN=Didi Reicht:MAILTO:didi@reicht.net
DTSTART;TZID=Europe/Vienna:20170703T190000
DTEND;TZID=Europe/Vienna:20170703T204500
X-ALT-DESC;FMTTYPE=TEXT/HTML:Mo\, 3. Juli 2017\, 19:00 Uhr Exit 19 Stadion 
 verschoben. Neuer Termin folgt
CATEGORIES:Spiel
URL;VALUE=URI:https://www.treffling.com/kalender/askoe-treffling-dsg-versch
 oben/
METHOD:PUBLISH
END:VEVENT
END:VCALENDAR