BEGIN:VCALENDAR
VERSION:2.0
PRODID:spatie/icalendar-generator
DESCRIPTION:Veranstaltungen von Seniorenfussball Treffling
X-WR-CALDESC:Veranstaltungen von Seniorenfussball Treffling
REFRESH-INTERVAL;VALUE=DURATION:PT1440M
X-PUBLISHED-TTL:PT1440M
BEGIN:VTIMEZONE
TZID:Europe/Vienna
BEGIN:DAYLIGHT
DTSTART:20160327T020000Z
TZOFFSETFROM:+0100
TZOFFSETTO:+0200
END:DAYLIGHT
BEGIN:STANDARD
DTSTART:20161030T030000Z
TZOFFSETFROM:+0200
TZOFFSETTO:+0100
END:STANDARD
BEGIN:DAYLIGHT
DTSTART:20170326T020000Z
TZOFFSETFROM:+0100
TZOFFSETTO:+0200
END:DAYLIGHT
END:VTIMEZONE
BEGIN:VTIMEZONE
TZID:UTC
BEGIN:STANDARD
DTSTART:20250730T042303Z
TZOFFSETFROM:+0000
TZOFFSETTO:+0000
END:STANDARD
END:VTIMEZONE
BEGIN:VEVENT
UID:17-5
DTSTAMP:20260426T042303Z
SUMMARY:15 Jahre Seniorenfußball Treffling Ausflug
LOCATION:
ORGANIZER;CN=Didi Reicht:MAILTO:didi@reicht.net
DTSTART;TZID=Europe/Vienna:20160924T090000
DTEND;TZID=Europe/Vienna:20160925T150000
X-ALT-DESC;FMTTYPE=TEXT/HTML:15 Jahre Seniorenfußball Treffling Ausflug Sa
 mstag\, 24. September 2016 - Sonntag 25. September 2016 Start 09:00 Uhr S
 PAR Parkplatz Mittertreffling Fahrt zum Wirtshaus Kollonödt: Wandergolf 
 &amp;amp\; Mittagessen (Reith 13\, 4150 Rohrbach) anschließend zum Böhmerwa
 ldhorst in Ulrichsberg (Lichtenberg 133\, 4161 Ulrichsberg) Beziehen der 
 Hütten und Aufbau Lager entweder Spiel gegen lokale Mannschaft (?)\, Klet
 tergarten oder ein Kick wie in alten&amp;hellip\;
CATEGORIES:Ausflug
URL;VALUE=URI:https://www.treffling.com/kalender/15-jahre-seniorenfussball-
 treffling-ausflug/
METHOD:PUBLISH
END:VEVENT
END:VCALENDAR