BEGIN:VCALENDAR
VERSION:2.0
PRODID:spatie/icalendar-generator
DESCRIPTION:Veranstaltungen von Seniorenfussball Treffling
X-WR-CALDESC:Veranstaltungen von Seniorenfussball Treffling
REFRESH-INTERVAL;VALUE=DURATION:PT1440M
X-PUBLISHED-TTL:PT1440M
BEGIN:VTIMEZONE
TZID:Europe/Vienna
BEGIN:STANDARD
DTSTART:20171029T030000Z
TZOFFSETFROM:+0200
TZOFFSETTO:+0100
END:STANDARD
BEGIN:DAYLIGHT
DTSTART:20180325T020000Z
TZOFFSETFROM:+0100
TZOFFSETTO:+0200
END:DAYLIGHT
END:VTIMEZONE
BEGIN:VTIMEZONE
TZID:UTC
BEGIN:STANDARD
DTSTART:20250729T184443Z
TZOFFSETFROM:+0000
TZOFFSETTO:+0000
END:STANDARD
END:VTIMEZONE
BEGIN:VEVENT
UID:50-31
DTSTAMP:20260425T184443Z
SUMMARY:Punschstand
LOCATION:Ortsplatz Mittertreffling Kirchenplatz 1  Engerwitzdorf Österreic
 h 4209
ORGANIZER;CN=Didi Reicht:MAILTO:didi@reicht.net
DTSTART;TZID=Europe/Vienna:20171222T160000
DTEND;TZID=Europe/Vienna:20171222T220000
X-ALT-DESC;FMTTYPE=TEXT/HTML:Traditionell findet auch heuer wieder ein Puns
 chstand des ASKÖ Treffling Seniorenkicker am Dorfplatz Mittertreffling am
  Fr\, 22. Dezember 2017 zwischen 16:00 und 22:0 Uhr statt. Passend dazu gi
 bt es Punsch\, Kinderpunsch und Glühmost. Und zum Essen Raclette-Brote un
 d Leberkäse vom Leberkas Pepi. [caption id=\"attachment_4461\" align=\"al
 ignnone\" width=\"426\"] [/caption] Die Seniorenkicker des ASKÖ Treffling
  freuen sich auf&amp;hellip\;
CATEGORIES:Ausflug
URL;VALUE=URI:https://www.treffling.com/kalender/punschstand-2/
METHOD:PUBLISH
END:VEVENT
END:VCALENDAR