BEGIN:VCALENDAR
VERSION:2.0
PRODID:spatie/icalendar-generator
DESCRIPTION:Veranstaltungen von Seniorenfussball Treffling
X-WR-CALDESC:Veranstaltungen von Seniorenfussball Treffling
REFRESH-INTERVAL;VALUE=DURATION:PT1440M
X-PUBLISHED-TTL:PT1440M
BEGIN:VTIMEZONE
TZID:Europe/Vienna
BEGIN:DAYLIGHT
DTSTART:20170326T020000Z
TZOFFSETFROM:+0100
TZOFFSETTO:+0200
END:DAYLIGHT
BEGIN:STANDARD
DTSTART:20171029T030000Z
TZOFFSETFROM:+0200
TZOFFSETTO:+0100
END:STANDARD
BEGIN:DAYLIGHT
DTSTART:20180325T020000Z
TZOFFSETFROM:+0100
TZOFFSETTO:+0200
END:DAYLIGHT
END:VTIMEZONE
BEGIN:VTIMEZONE
TZID:UTC
BEGIN:STANDARD
DTSTART:20250729T145306Z
TZOFFSETFROM:+0000
TZOFFSETTO:+0000
END:STANDARD
END:VTIMEZONE
BEGIN:VEVENT
UID:35-21
DTSTAMP:20260425T145306Z
SUMMARY:ASKÖ Treffling - FC Hard
LOCATION:ASKÖ Treffling\, Exit 19 Stadion Spielfeld 18  Mittertreffling OO
 E 4209
ORGANIZER;CN=Didi Reicht:MAILTO:didi@reicht.net
DTSTART;TZID=Europe/Vienna:20171021T150000
DTEND;TZID=Europe/Vienna:20171021T174500
X-ALT-DESC;FMTTYPE=TEXT/HTML:Spiel gegen die AH (Alt-Herren) des FC Hard\, 
 Vorarlberg. Anschließend Party mit Kistensau. Anmeldung Doodle
CATEGORIES:Spiel
URL;VALUE=URI:https://www.treffling.com/kalender/askoe-treffling-fc-hard/
METHOD:PUBLISH
END:VEVENT
END:VCALENDAR