BEGIN:VCALENDAR
VERSION:2.0
PRODID:spatie/icalendar-generator
DESCRIPTION:Veranstaltungen von Seniorenfussball Treffling
X-WR-CALDESC:Veranstaltungen von Seniorenfussball Treffling
REFRESH-INTERVAL;VALUE=DURATION:PT1440M
X-PUBLISHED-TTL:PT1440M
BEGIN:VTIMEZONE
TZID:Europe/Vienna
BEGIN:STANDARD
DTSTART:20161030T030000Z
TZOFFSETFROM:+0200
TZOFFSETTO:+0100
END:STANDARD
BEGIN:DAYLIGHT
DTSTART:20170326T020000Z
TZOFFSETFROM:+0100
TZOFFSETTO:+0200
END:DAYLIGHT
END:VTIMEZONE
BEGIN:VTIMEZONE
TZID:UTC
BEGIN:STANDARD
DTSTART:20250729T214504Z
TZOFFSETFROM:+0000
TZOFFSETTO:+0000
END:STANDARD
END:VTIMEZONE
BEGIN:VEVENT
UID:28-15
DTSTAMP:20260425T214504Z
SUMMARY:Steyregg - Treffling
LOCATION:Sportverein Steyregg   Steyregg  4221
ORGANIZER;CN=Didi Reicht:MAILTO:didi@reicht.net
DTSTART;TZID=Europe/Vienna:20170410T180000
DTEND;TZID=Europe/Vienna:20170410T194500
X-ALT-DESC;FMTTYPE=TEXT/HTML:SV Steyregg - ASKÖ Treffling Mo\, 10.4.2017\,
  18:00 Uhr\, Sportplatz SV Steyregg Treffpunkt: 17:00 Uhr\, SPAR Parkplatz
  Anmeldung bei Doodle
CATEGORIES:Ausflug
URL;VALUE=URI:https://www.treffling.com/kalender/steyregg-treffling/
METHOD:PUBLISH
END:VEVENT
END:VCALENDAR