BEGIN:VCALENDAR
VERSION:2.0
PRODID:spatie/icalendar-generator
DESCRIPTION:Veranstaltungen von Seniorenfussball Treffling
X-WR-CALDESC:Veranstaltungen von Seniorenfussball Treffling
REFRESH-INTERVAL;VALUE=DURATION:PT1440M
X-PUBLISHED-TTL:PT1440M
BEGIN:VTIMEZONE
TZID:Europe/Vienna
BEGIN:DAYLIGHT
DTSTART:20160327T020000Z
TZOFFSETFROM:+0100
TZOFFSETTO:+0200
END:DAYLIGHT
BEGIN:STANDARD
DTSTART:20161030T030000Z
TZOFFSETFROM:+0200
TZOFFSETTO:+0100
END:STANDARD
BEGIN:DAYLIGHT
DTSTART:20170326T020000Z
TZOFFSETFROM:+0100
TZOFFSETTO:+0200
END:DAYLIGHT
END:VTIMEZONE
BEGIN:VTIMEZONE
TZID:UTC
BEGIN:STANDARD
DTSTART:20250730T025009Z
TZOFFSETFROM:+0000
TZOFFSETTO:+0000
END:STANDARD
END:VTIMEZONE
BEGIN:VEVENT
UID:25-12
DTSTAMP:20260426T025009Z
SUMMARY:Weihnachtsfeier 2016
LOCATION:Jukebox Betriebsstraße 3  Unterweitersdorf OOE 4210
ORGANIZER;CN=Didi Reicht:MAILTO:didi@reicht.net
DTSTART;TZID=Europe/Vienna:20161118T183000
DTEND;TZID=Europe/Vienna:20161118T234500
X-ALT-DESC;FMTTYPE=TEXT/HTML:Wie jedes Jahr laden wir auch heuer wieder zur
  Jahresabschluss- und Weihnachtsfeier. Heuer speisen wir im Jukebox Unterw
 eitersdorf\, es gibt Steak\, Burger und sonstige Schmankerln. Im Anschluss
  haben wir einen Tisch im Evers reserviert\, wo wir bis in die frühen Mor
 genstunden weiter feiern können. Anmeldungen wie immer in Doodle hier\, B
 egleitung (Frau\, Freundin\, Gspusi) herzlich&amp;hellip\;
CATEGORIES:Ausflug
URL;VALUE=URI:https://www.treffling.com/kalender/weihnachtsfeier-2016/
METHOD:PUBLISH
END:VEVENT
END:VCALENDAR